BEGIN:VCALENDAR
VERSION:2.0
PRODID:-//Library Market//iCal Export//EN
BEGIN:VEVENT
SUMMARY:Meditation (Virtual)
UID:11069
DTSTAMP:20260425T224900Z
DTSTART:20260513T173000Z
DTEND:20260513T180000Z
LOCATION:
DESCRIPTION:Take a guided meditation break with our community partners at 
 Seabury.Â Seabury is an active life plan community located in Bloomfield.Â
  
URL:https://bplct.librarycalendar.com/event/meditation-virtual-11069
END:VEVENT
END:VCALENDAR
