BEGIN:VCALENDAR
VERSION:2.0
PRODID:-//Library Market//iCal Export//EN
BEGIN:VEVENT
SUMMARY:Meditation (Virtual)
UID:11070
DTSTAMP:20260425T132200Z
DTSTART:20260520T173000Z
DTEND:20260520T180000Z
LOCATION:
DESCRIPTION:Take a guided meditation break with our community partners at 
 Seabury.Â Seabury is an active life plan community located in Bloomfield.Â
  
URL:https://bplct.librarycalendar.com/event/meditation-virtual-11070
END:VEVENT
END:VCALENDAR
