BEGIN:VCALENDAR
VERSION:2.0
PRODID:-//Library Market//iCal Export//EN
BEGIN:VEVENT
SUMMARY:Storytime @ Prosser
UID:15729
DTSTAMP:20260421T044600Z
DTSTART:20260629T143000Z
DTEND:20260629T151500Z
LOCATION:1 Tunxis Ave, Bloomfield, CT 06002, United States
ROOM: Prosser Community Room
DESCRIPTION:Join BPL librarians at Prosser for a weekly preschool storytim
 e! Each Monday, BPL librarians share stories and songs in the Prosser Com
 munity Room followed by an optional craft, coloring, or playtime in the yo
 uth department. Best for ages 5 and under. Registration is appreciated, bu
 t not required. Drop-ins welcome!NOTE: Some Monday storytimes are excluded
  due to holidays or special events. Check our BPL online events calendar f
 or the most up-to-date info. Thanks!
URL:https://bplct.librarycalendar.com/event/storytime-prosser-15729
END:VEVENT
END:VCALENDAR
